BEGIN:VCALENDAR
VERSION:2.0
PRODID:spatie/icalendar-generator
DESCRIPTION:Events from Plataforma de participación ciudadana - Ayuntamien
 to de Aranda de Duero
X-WR-CALDESC:Events from Plataforma de participación ciudadana - Ayuntamie
 nto de Aranda de Duero
REFRESH-INTERVAL;VALUE=DURATION:PT1440M
X-PUBLISHED-TTL:PT1440M
BEGIN:VTIMEZONE
TZID:Europe/Madrid
BEGIN:STANDARD
DTSTART:20221030T030000Z
TZOFFSETFROM:+0200
TZOFFSETTO:+0100
END:STANDARD
BEGIN:DAYLIGHT
DTSTART:20230326T020000Z
TZOFFSETFROM:+0100
TZOFFSETTO:+0200
END:DAYLIGHT
BEGIN:STANDARD
DTSTART:20231029T030000Z
TZOFFSETFROM:+0200
TZOFFSETTO:+0100
END:STANDARD
END:VTIMEZONE
BEGIN:VTIMEZONE
TZID:UTC
BEGIN:STANDARD
DTSTART:20250728T082538Z
TZOFFSETFROM:+0000
TZOFFSETTO:+0000
END:STANDARD
END:VTIMEZONE
BEGIN:VEVENT
UID:94-81
DTSTAMP:20260424T082538Z
SUMMARY:CD TENIS RIBERA: LIGA CLUB DE TENIS RIBERA CANTINACCIA. 1ª fase
LOCATION:INACUA Cra. de Soria s/n  Aranda de Duero Burgos 09400
ORGANIZER;CN=asoc-aranda:MAILTO:soporte@viavox.com
DTSTART;TZID=Europe/Madrid;VALUE=DATE:20230414
DTEND;TZID=Europe/Madrid;VALUE=DATE:20230508
X-ALT-DESC;FMTTYPE=TEXT/HTML:Pueden participar personas federadas y no fede
 radas\, independientemente de ser socio/a o no y en todas las categorías
CATEGORIES:General
URL;VALUE=URI:https://asociaciones.arandadeduero.es/mc-events/cd-tenis-ribe
 ra-liga-club-de-tenis-ribera-cantinaccia-1a-fase/
METHOD:PUBLISH
END:VEVENT
END:VCALENDAR