BEGIN:VCALENDAR
VERSION:2.0
PRODID:spatie/icalendar-generator
DESCRIPTION:Events from Plataforma de participación ciudadana - Ayuntamien
 to de Aranda de Duero
X-WR-CALDESC:Events from Plataforma de participación ciudadana - Ayuntamie
 nto de Aranda de Duero
REFRESH-INTERVAL;VALUE=DURATION:PT1440M
X-PUBLISHED-TTL:PT1440M
BEGIN:VTIMEZONE
TZID:Europe/Madrid
BEGIN:STANDARD
DTSTART:20221030T030000Z
TZOFFSETFROM:+0200
TZOFFSETTO:+0100
END:STANDARD
BEGIN:DAYLIGHT
DTSTART:20230326T020000Z
TZOFFSETFROM:+0100
TZOFFSETTO:+0200
END:DAYLIGHT
BEGIN:STANDARD
DTSTART:20231029T030000Z
TZOFFSETFROM:+0200
TZOFFSETTO:+0100
END:STANDARD
END:VTIMEZONE
BEGIN:VTIMEZONE
TZID:UTC
BEGIN:STANDARD
DTSTART:20250724T082517Z
TZOFFSETFROM:+0000
TZOFFSETTO:+0000
END:STANDARD
END:VTIMEZONE
BEGIN:VEVENT
UID:143-128
DTSTAMP:20260420T082517Z
SUMMARY:JEARCO: TALLER DE COMUNICACIÓN EFECTIVA
LOCATION:Hotel Montehermoso  Ctra. Madrid-Irun km 163\, 09400 -   Aranda de
  Duero  Burgos  09400
ORGANIZER;CN=asoc-aranda:MAILTO:soporte@viavox.com
DTSTART;TZID=Europe/Madrid:20230608T143000
DTEND;TZID=Europe/Madrid:20230608T170000
X-ALT-DESC;FMTTYPE=TEXT/HTML:&amp;nbsp\; &amp;nbsp\; Se va a hablar de la comunicac
 ión como herramienta de influencia\, cómo comunicar para mejorar las ven
 tas \, la comunicación de crisis y cómo  crear marca. Más información
  en el archivo adjunto aquí abajo  y en sus redes sociales 2023_JEARCO_P
 ro-empresa_-comunicacion
CATEGORIES:General
URL;VALUE=URI:https://asociaciones.arandadeduero.es/mc-events/jearco-taller
 -de-comunicacion-efectiva/
METHOD:PUBLISH
END:VEVENT
END:VCALENDAR